BEGIN:VCALENDAR
VERSION:2.0
PRODID:-//Hope with Aston Parish Council//Meeting Calendar//EN
CALSCALE:GREGORIAN
METHOD:PUBLISH
BEGIN:VEVENT
UID:70701-20261012@hopewithastonparishcouncil.gov.uk
DTSTAMP:20260422T113216Z
DTSTART;VALUE=DATE:20261012
DTEND;VALUE=DATE:20261013
SUMMARY:Parish Council Meeting &#8211\\; 12th October 2026
DESCRIPTION:Full Council Meeting\nView details: https://hopewithastonparishcouncil.gov.uk/meetings/parish-council-meeting-12th-october-2026/
URL:https://hopewithastonparishcouncil.gov.uk/meetings/parish-council-meeting-12th-october-2026/
END:VEVENT
END:VCALENDAR
