BEGIN:VCALENDAR
VERSION:2.0
PRODID:-//Hope with Aston Parish Council//Meeting Calendar//EN
CALSCALE:GREGORIAN
METHOD:PUBLISH
BEGIN:VEVENT
UID:70695-20261214@hopewithastonparishcouncil.gov.uk
DTSTAMP:20260422T143933Z
DTSTART;VALUE=DATE:20261214
DTEND;VALUE=DATE:20261215
SUMMARY:Parish Council Meeting &#8211\\; 14th December 2026
DESCRIPTION:Full Council Meeting\nView details: https://hopewithastonparishcouncil.gov.uk/meetings/parish-council-meeting-13th-april-2026/
URL:https://hopewithastonparishcouncil.gov.uk/meetings/parish-council-meeting-13th-april-2026/
END:VEVENT
END:VCALENDAR
